BEGIN:VCALENDAR
VERSION:2.0
PRODID:-//104.152.168.27//NONSGML kigkonsult.se iCalcreator 2.20//
CALSCALE:GREGORIAN
METHOD:PUBLISH
X-WR-TIMEZONE:Asia/Tokyo
BEGIN:VEVENT
UID:event31547@Tokyo Gig Guide
DTSTAMP:20260420T012517Z
CATEGORIES:Abstract\, Alternative\, Noise\, Performance
DESCRIPTION:Dark-Low\, Luneshevilikovsky\, Kato Machiko\, Otodamakoubou\, D
 oku♡Doku\nCategory: Abstract\, Alternative\, Noise\, Performance\nLink: ht
 tps://www.tokyogigguide.com/index.php?option=com_jem&view=event&id=31547:d
 ark-low-luneshevilikovsky-kato-machiko-otodamakoubou-doku-doku&Itemid=1094
 \n
DTSTART:20240612T170000
DTEND:20240612T170000
LOCATION:Apocalypse Now\,Arakawa 1-31-7\, Arakawa-ku\, Tokyo\,Minowa
SUMMARY:Dark-Low\, Luneshevilikovsky\, Kato Machiko\, Otodamakoubou\, Doku♡
 Doku
URL:https://www.tokyogigguide.com/index.php?option=com_jem&view=event&id=31
 547:dark-low-luneshevilikovsky-kato-machiko-otodamakoubou-doku-doku&Itemid
 =1094
END:VEVENT
END:VCALENDAR
