BEGIN:VCALENDAR
VERSION:2.0
PRODID:-//104.152.168.27//NONSGML kigkonsult.se iCalcreator 2.20//
CALSCALE:GREGORIAN
METHOD:PUBLISH
X-WR-TIMEZONE:Asia/Tokyo
BEGIN:VEVENT
UID:event31418@Tokyo Gig Guide
DTSTAMP:20260424T001453Z
CATEGORIES:Blues\, Jam\, Soul
DESCRIPTION:Blues Jam Session w/ Chris & Darek \nCategory: Blues\, Jam\, So
 ul\nLink: https://www.tokyogigguide.com/index.php?option=com_jem&view=even
 t&id=31418:blues-jam-session-w-chris-darek&Itemid=1094\n
DTSTART:20240518T190000
DTEND:20240518T190000
LOCATION:Love\, Peace and Soul Live Cafe\,Parfum Kyodo B1-C 1-5-6 Kyodo\, S
 etagaya-ku\, Tokyo\,Kyodo
SUMMARY:Blues Jam Session w/ Chris & Darek 
URL:https://www.tokyogigguide.com/index.php?option=com_jem&view=event&id=31
 418:blues-jam-session-w-chris-darek&Itemid=1094
END:VEVENT
END:VCALENDAR
