BEGIN:VCALENDAR
VERSION:2.0
PRODID:-//104.152.168.27//NONSGML kigkonsult.se iCalcreator 2.20//
CALSCALE:GREGORIAN
METHOD:PUBLISH
X-WR-TIMEZONE:Asia/Tokyo
BEGIN:VEVENT
UID:event31416@Tokyo Gig Guide
DTSTAMP:20260420T113602Z
CATEGORIES:Blues\, Funk\, Fusion\, Instrumental\, Soul
DESCRIPTION:Nippo' Groove Live\nCategory: Blues\, Funk\, Fusion\, Instrumen
 tal\, Soul\nLink: https://www.tokyogigguide.com/index.php?option=com_jem&v
 iew=event&id=31416:nippo-groove-live&Itemid=1094\n
DTSTART:20240512T190000
DTEND:20240512T190000
LOCATION:Love\, Peace and Soul Live Cafe\,Parfum Kyodo B1-C 1-5-6 Kyodo\, S
 etagaya-ku\, Tokyo\,Kyodo
SUMMARY:Nippo' Groove Live
URL:https://www.tokyogigguide.com/index.php?option=com_jem&view=event&id=31
 416:nippo-groove-live&Itemid=1094
END:VEVENT
END:VCALENDAR
