BEGIN:VCALENDAR
VERSION:2.0
PRODID:-//104.152.168.27//NONSGML kigkonsult.se iCalcreator 2.20//
CALSCALE:GREGORIAN
METHOD:PUBLISH
X-WR-TIMEZONE:Asia/Tokyo
BEGIN:VEVENT
UID:event31399@Tokyo Gig Guide
DTSTAMP:20260425T194450Z
CATEGORIES:Alternative\, Folk\, Indie-Pop\, Punk\, Soul
DESCRIPTION:ALKASILKA\, MOOS\, MEGA X\, Sorry No Camisole\, Thiiird Place\,
  The GUAYS\, FEWWW\, number two\, T.V. NOT JANUARY\, more\nCategory: Alter
 native\, Folk\, Indie-Pop\, Punk\, Soul\nLink: https://www.tokyogigguide.c
 om/index.php?option=com_jem&view=event&id=31399:alkasilka-moos-mega-x-sorr
 y-no-camisole-thiiird-place-the-guays-fewww-number-two-t-v-not-january-arc
 her-archer-and-more&Itemid=1094\n
DTSTART:20240630T120000
DTEND:20240630T120000
LOCATION:LIVE HAUS\,B1F\, 2-14-2 Kitazawa\, Setagayaku\, Tokyo\,Shimokitaza
 wa
SUMMARY:ALKASILKA\, MOOS\, MEGA X\, Sorry No Camisole\, Thiiird Place\, The
  GUAYS\, FEWWW\, number two\, T.V. NOT JANUARY\, more
URL:https://www.tokyogigguide.com/index.php?option=com_jem&view=event&id=31
 399:alkasilka-moos-mega-x-sorry-no-camisole-thiiird-place-the-guays-fewww-
 number-two-t-v-not-january-archer-archer-and-more&Itemid=1094
END:VEVENT
END:VCALENDAR
