BEGIN:VCALENDAR
VERSION:2.0
PRODID:-//104.152.168.27//NONSGML kigkonsult.se iCalcreator 2.20//
CALSCALE:GREGORIAN
METHOD:PUBLISH
X-WR-TIMEZONE:Asia/Tokyo
BEGIN:VEVENT
UID:event31326@Tokyo Gig Guide
DTSTAMP:20260420T074624Z
CATEGORIES:Funk\, Instrumental\, Jazz\, R n B\, Synth-pop
DESCRIPTION:TAWAKE\nCategory: Funk\, Instrumental\, Jazz\, R n B\, Synth-po
 p\nLink: https://www.tokyogigguide.com/index.php?option=com_jem&view=event
 &id=31326:tawake&Itemid=1094\n
DTSTART:20240607T193000
DTEND:20240607T193000
LOCATION:Jazz Bar Amber (琥珀)\,17-1 Brother Building 6F\, Udagawacho\,Shibuy
 a
SUMMARY:TAWAKE
URL:https://www.tokyogigguide.com/index.php?option=com_jem&view=event&id=31
 326:tawake&Itemid=1094
END:VEVENT
END:VCALENDAR
