BEGIN:VCALENDAR
VERSION:2.0
PRODID:-//104.152.168.27//NONSGML kigkonsult.se iCalcreator 2.20//
CALSCALE:GREGORIAN
METHOD:PUBLISH
X-WR-TIMEZONE:Asia/Tokyo
BEGIN:VEVENT
UID:event31311@Tokyo Gig Guide
DTSTAMP:20260421T055956Z
CATEGORIES:Alternative\, Indie\, Fusion\, Experimental\, Instrumental
DESCRIPTION:henrytennis\, DUFDUF\, mozu\, Santa Dharma\nCategory: Alternati
 ve\, Indie\, Fusion\, Experimental\, Instrumental\nLink: https://www.tokyo
 gigguide.com/index.php?option=com_jem&view=event&id=31311:henrytennis-etc&
 Itemid=1094\n
DTSTART:20240705T190000
DTEND:20240705T190000
LOCATION:Daydream\,6F\, 1-1-4\, Minami-cho\, Kichijoji\, Musashino city\,Ki
 chijoji
SUMMARY:henrytennis\, DUFDUF\, mozu\, Santa Dharma
URL:https://www.tokyogigguide.com/index.php?option=com_jem&view=event&id=31
 311:henrytennis-etc&Itemid=1094
END:VEVENT
END:VCALENDAR
