BEGIN:VCALENDAR
VERSION:2.0
PRODID:-//104.152.168.27//NONSGML kigkonsult.se iCalcreator 2.20//
CALSCALE:GREGORIAN
METHOD:PUBLISH
X-WR-TIMEZONE:Asia/Tokyo
BEGIN:VEVENT
UID:event31294@Tokyo Gig Guide
DTSTAMP:20260422T200655Z
CATEGORIES:Funk\, Improvised\, Instrumental\, Jazz\, Latin
DESCRIPTION:Mariko Nakabayashi\, Hiroki Murakami\, Johnhori\nCategory: Funk
 \, Improvised\, Instrumental\, Jazz\, Latin\nLink: https://www.tokyogiggui
 de.com/index.php?option=com_jem&view=event&id=31294:mariko-nakabayashi-hir
 oki-murakami-johnhori-madoron-15&Itemid=1094\n
DTSTART:20240510T190000
DTEND:20240510T190000
LOCATION:ZIMAGINE\,6-2-13-B1 Minami-Aoyama\, Minato-ku\, Tokyo\,Omotesando
SUMMARY:Mariko Nakabayashi\, Hiroki Murakami\, Johnhori
URL:https://www.tokyogigguide.com/index.php?option=com_jem&view=event&id=31
 294:mariko-nakabayashi-hiroki-murakami-johnhori-madoron-15&Itemid=1094
END:VEVENT
END:VCALENDAR
