BEGIN:VCALENDAR
VERSION:2.0
PRODID:-//104.152.168.27//NONSGML kigkonsult.se iCalcreator 2.20//
CALSCALE:GREGORIAN
METHOD:PUBLISH
X-WR-TIMEZONE:Asia/Tokyo
BEGIN:VEVENT
UID:event31224@Tokyo Gig Guide
DTSTAMP:20260421T082914Z
CATEGORIES:Alternative\, Funk\, Indie-Rock\, Pop\, Rock
DESCRIPTION:Sophomores\, more\nCategory: Alternative\, Funk\, Indie-Rock\, 
 Pop\, Rock\nLink: https://www.tokyogigguide.com/index.php?option=com_jem&v
 iew=event&id=31224:sophomores-etc&Itemid=1094\n
DTSTART:20240629T180000
DTEND:20240629T180000
LOCATION:navey floor\,B1\, 2-14-1 Akasaka\, Minato-ku\, Tokyo\,Akasaka
SUMMARY:Sophomores\, more
URL:https://www.tokyogigguide.com/index.php?option=com_jem&view=event&id=31
 224:sophomores-etc&Itemid=1094
END:VEVENT
END:VCALENDAR
