BEGIN:VCALENDAR
VERSION:2.0
PRODID:-//104.152.168.27//NONSGML kigkonsult.se iCalcreator 2.20//
CALSCALE:GREGORIAN
METHOD:PUBLISH
X-WR-TIMEZONE:Asia/Tokyo
BEGIN:VEVENT
UID:event31094@Tokyo Gig Guide
DTSTAMP:20260422T134021Z
CATEGORIES:Acoustic\, Classical\, Jazz
DESCRIPTION:chidori quartet@tanabe showten\nCategory: Acoustic\, Classical\
 , Jazz\nLink: https://www.tokyogigguide.com/index.php?option=com_jem&view=
 event&id=31094:chidori-quartet-tanabe-showten&Itemid=1094\n
DTSTART:20240411T190000
DTEND:20240411T190000
LOCATION:ZIMAGINE\,6-2-13-B1 Minami-Aoyama\, Minato-ku\, Tokyo\,Omotesando
SUMMARY:chidori quartet@tanabe showten
URL:https://www.tokyogigguide.com/index.php?option=com_jem&view=event&id=31
 094:chidori-quartet-tanabe-showten&Itemid=1094
END:VEVENT
END:VCALENDAR
