BEGIN:VCALENDAR
VERSION:2.0
PRODID:-//104.152.168.27//NONSGML kigkonsult.se iCalcreator 2.20//
CALSCALE:GREGORIAN
METHOD:PUBLISH
X-WR-TIMEZONE:Asia/Tokyo
BEGIN:VEVENT
UID:event31068@Tokyo Gig Guide
DTSTAMP:20260426T013341Z
CATEGORIES:Art\, Avant garde\, Experimental\, Festival\, Noise
DESCRIPTION:GigaNoise DOMMUNE: 天鼓 (Tenko)\, 中村達也 (Tatsuya Nakamura)\, 山川冬樹 
 Fuyuki Yamakawa)\, 中尾憲太郎 (Kentarou Nakao)\, more\nCategory: Art\, Avant ga
 rde\, Experimental\, Festival\, Noise\nLink: https://www.tokyogigguide.com
 /index.php?option=com_jem&view=event&id=31068:giganoise-dommune-tenko-tast
 uyanakamura-fuyukiyamakawa-kentarounkao-yoshimistuichiraku-and-more&Itemid
 =1094\n
DTSTART:20240426T193000
DTEND:20240426T193000
LOCATION:SUPER DOMMUNE\,15-1 Udagawa-Cho\, Shibuya-ku\, Tokyo\, PARCO9F\,Sh
 ibuya
SUMMARY:GigaNoise DOMMUNE: 天鼓 (Tenko)\, 中村達也 (Tatsuya Nakamura)\, 山川冬樹 Fuyu
 ki Yamakawa)\, 中尾憲太郎 (Kentarou Nakao)\, more
URL:https://www.tokyogigguide.com/index.php?option=com_jem&view=event&id=31
 068:giganoise-dommune-tenko-tastuyanakamura-fuyukiyamakawa-kentarounkao-yo
 shimistuichiraku-and-more&Itemid=1094
END:VEVENT
END:VCALENDAR
