BEGIN:VCALENDAR
VERSION:2.0
PRODID:-//104.152.168.27//NONSGML kigkonsult.se iCalcreator 2.20//
CALSCALE:GREGORIAN
METHOD:PUBLISH
X-WR-TIMEZONE:Asia/Tokyo
BEGIN:VEVENT
UID:event30845@Tokyo Gig Guide
DTSTAMP:20260421T005137Z
CATEGORIES:Acoustic\, Folk\, Hip-Hop
DESCRIPTION:Noda Misaki\, Suuko\, MC UYA\, kou\, Suzuki Satoshi\, Naruse Ko
 uichi\nCategory: Acoustic\, Folk\, Hip-Hop\nLink: https://www.tokyogigguid
 e.com/index.php?option=com_jem&view=event&id=30845:noda-misaki-suuko-mc-uy
 a-kou-suzuki-satoshi-naruse-kouichi&Itemid=1094\n
DTSTART:20240414T170000
DTEND:20240414T170000
LOCATION:Apocalypse Now\,Arakawa 1-31-7\, Arakawa-ku\, Tokyo\,Minowa
SUMMARY:Noda Misaki\, Suuko\, MC UYA\, kou\, Suzuki Satoshi\, Naruse Kouich
 i
URL:https://www.tokyogigguide.com/index.php?option=com_jem&view=event&id=30
 845:noda-misaki-suuko-mc-uya-kou-suzuki-satoshi-naruse-kouichi&Itemid=1094
END:VEVENT
END:VCALENDAR
