BEGIN:VCALENDAR
VERSION:2.0
PRODID:-//104.152.168.27//NONSGML kigkonsult.se iCalcreator 2.20//
CALSCALE:GREGORIAN
METHOD:PUBLISH
X-WR-TIMEZONE:Asia/Tokyo
BEGIN:VEVENT
UID:event30617@Tokyo Gig Guide
DTSTAMP:20260422T191025Z
CATEGORIES:Acoustic\, Folk\, Instrumental\, Jazz\, Latin
DESCRIPTION:ARCANA (Youhei 'topo' Yamashita\, Natsuki Kido\, Eri Uenoyama)
 \nCategory: Acoustic\, Folk\, Instrumental\, Jazz\, Latin\nLink: https://w
 ww.tokyogigguide.com/index.php?option=com_jem&view=event&id=30617:arcana-y
 ouhei-topo-yamashita-natsuki-kido-eri-uenoyama&Itemid=1094\n
DTSTART:20240516T190000
DTEND:20240516T190000
LOCATION:plus eleven\,1-2-15\, Nakacho\, Ageo-shi\, Saitama\,Ageo
SUMMARY:ARCANA (Youhei 'topo' Yamashita\, Natsuki Kido\, Eri Uenoyama)
URL:https://www.tokyogigguide.com/index.php?option=com_jem&view=event&id=30
 617:arcana-youhei-topo-yamashita-natsuki-kido-eri-uenoyama&Itemid=1094
END:VEVENT
END:VCALENDAR
