BEGIN:VCALENDAR
VERSION:2.0
PRODID:-//104.152.168.27//NONSGML kigkonsult.se iCalcreator 2.20//
CALSCALE:GREGORIAN
METHOD:PUBLISH
X-WR-TIMEZONE:Asia/Tokyo
BEGIN:VEVENT
UID:event30611@Tokyo Gig Guide
DTSTAMP:20260422T152424Z
CATEGORIES:Acoustic\, Instrumental\, Jazz\, Mixed Genre
DESCRIPTION:Natsuki Kido\, Coba\nCategory: Acoustic\, Instrumental\, Jazz\,
  Mixed Genre\nLink: https://www.tokyogigguide.com/index.php?option=com_jem
 &view=event&id=30611:natsuki-kido-coba&Itemid=1094\n
DTSTART:20240428T180000
DTEND:20240428T180000
LOCATION:Jirokichi\,Koenji Bldg B1\, 2-3-4 Koenji-kita\,Koenji
SUMMARY:Natsuki Kido\, Coba
URL:https://www.tokyogigguide.com/index.php?option=com_jem&view=event&id=30
 611:natsuki-kido-coba&Itemid=1094
END:VEVENT
END:VCALENDAR
