BEGIN:VCALENDAR
VERSION:2.0
PRODID:-//104.152.168.27//NONSGML kigkonsult.se iCalcreator 2.20//
CALSCALE:GREGORIAN
METHOD:PUBLISH
X-WR-TIMEZONE:Asia/Tokyo
BEGIN:VEVENT
UID:event30576@Tokyo Gig Guide
DTSTAMP:20260422T170326Z
CATEGORIES:Dub\, Noise\, Experimental\, Avant garde
DESCRIPTION:MINOWA Dub Noise: yucco\, Rukkora with Aicon\, Otodamakoubou\,K
 udow Tobiwo\nCategory: Dub\, Noise\, Experimental\, Avant garde\nLink: htt
 ps://www.tokyogigguide.com/index.php?option=com_jem&view=event&id=30576:mi
 nowa-dub-noise-yucco-and-more&Itemid=1094\n
DTSTART:20240410T170000
DTEND:20240410T170000
LOCATION:Apocalypse Now\,Arakawa 1-31-7\, Arakawa-ku\, Tokyo\,Minowa
SUMMARY:MINOWA Dub Noise: yucco\, Rukkora with Aicon\, Otodamakoubou\,Kudow
  Tobiwo
URL:https://www.tokyogigguide.com/index.php?option=com_jem&view=event&id=30
 576:minowa-dub-noise-yucco-and-more&Itemid=1094
END:VEVENT
END:VCALENDAR
