BEGIN:VCALENDAR
VERSION:2.0
PRODID:-//104.152.168.27//NONSGML kigkonsult.se iCalcreator 2.20//
CALSCALE:GREGORIAN
METHOD:PUBLISH
X-WR-TIMEZONE:Asia/Tokyo
BEGIN:VEVENT
UID:event3046@Tokyo Gig Guide
DTSTAMP:20260420T121226Z
CATEGORIES:Grindcore
DESCRIPTION:akbk debut cd release party w/ Cyberne\, Gomikawa\, 2UP\, Dead 
 Pan Speakers\, 2 Much Crew\nCategory: Grindcore\nLink: https://www.tokyogi
 gguide.com/index.php?option=com_jem&view=event&id=3046:akbk-debut-cd-relea
 se-party-wcybernegomikawa2updead-pan-speakers2-much-crewvwvw&Itemid=1094\n
DTSTART:20100719T173000
DTEND:20100719T173000
LOCATION:Earthdom\,Lisbon Bldg B1F\, 3-32-3 Okubo\, Shinjuku-ku\,Okubo
SUMMARY:akbk debut cd release party w/ Cyberne\, Gomikawa\, 2UP\, Dead Pan 
 Speakers\, 2 Much Crew
URL:https://www.tokyogigguide.com/index.php?option=com_jem&view=event&id=30
 46:akbk-debut-cd-release-party-wcybernegomikawa2updead-pan-speakers2-much-
 crewvwvw&Itemid=1094
END:VEVENT
END:VCALENDAR
