BEGIN:VCALENDAR
VERSION:2.0
PRODID:-//104.152.168.27//NONSGML kigkonsult.se iCalcreator 2.20//
CALSCALE:GREGORIAN
METHOD:PUBLISH
X-WR-TIMEZONE:Asia/Tokyo
BEGIN:VEVENT
UID:event30426@Tokyo Gig Guide
DTSTAMP:20260425T214541Z
CATEGORIES:Alternative\, Garage Rock\, Indie\, Punk\, Rock\, Shoegaze
DESCRIPTION:・荒牧リョウ ・TRINITY:AZURE ・クロメ ・concrete twin\nCategory: Alternativ
 e\, Garage Rock\, Indie\, Punk\, Rock\, Shoegaze\nLink: https://www.tokyog
 igguide.com/index.php?option=com_jem&view=event&id=30426:trinity-azure-con
 crete-twin&Itemid=1094\n
DTSTART:20240229T183000
DTEND:20240229T183000
LOCATION:Guilty\,Prospect B1F\, 1-17-6 Genzaka\, Shibuya\,Shibuya
SUMMARY:・荒牧リョウ ・TRINITY:AZURE ・クロメ ・concrete twin
URL:https://www.tokyogigguide.com/index.php?option=com_jem&view=event&id=30
 426:trinity-azure-concrete-twin&Itemid=1094
END:VEVENT
END:VCALENDAR
