BEGIN:VCALENDAR
VERSION:2.0
PRODID:-//104.152.168.27//NONSGML kigkonsult.se iCalcreator 2.20//
CALSCALE:GREGORIAN
METHOD:PUBLISH
X-WR-TIMEZONE:Asia/Tokyo
BEGIN:VEVENT
UID:event30256@Tokyo Gig Guide
DTSTAMP:20260423T022229Z
CATEGORIES:Free Jazz
DESCRIPTION:Atsuko Hatano and Grégoire Tirtiaux \nCategory: Free Jazz\nLink
 : https://www.tokyogigguide.com/index.php?option=com_jem&view=event&id=302
 56:atsuko-hatano-viola-and-gregoire-tirtiaux-baritone-sax&Itemid=1094\n
DTSTART:20240219T193000
DTEND:20240219T193000
LOCATION:Ftarri\,Okano Bld.B1\, 1-4-11\, Hongo\, Bunkyo-ku\, Tokyo\,Suidoba
 shi
SUMMARY:Atsuko Hatano and Grégoire Tirtiaux 
URL:https://www.tokyogigguide.com/index.php?option=com_jem&view=event&id=30
 256:atsuko-hatano-viola-and-gregoire-tirtiaux-baritone-sax&Itemid=1094
END:VEVENT
END:VCALENDAR
