BEGIN:VCALENDAR
VERSION:2.0
PRODID:-//104.152.168.27//NONSGML kigkonsult.se iCalcreator 2.20//
CALSCALE:GREGORIAN
METHOD:PUBLISH
X-WR-TIMEZONE:Asia/Tokyo
BEGIN:VEVENT
UID:event30121@Tokyo Gig Guide
DTSTAMP:20260426T002625Z
CATEGORIES:Indie-Pop
DESCRIPTION:The Second Waltz\, Shibata (Pasocom Music Club)\, Jenny Jenny\,
  Odoru Mie & The Jack Pots\, ℃-want you!\nCategory: Indie-Pop\nLink: https
 ://www.tokyogigguide.com/index.php?option=com_jem&view=event&id=30121:the-
 second-waltz-shibata-pasocom-music-club-jenny-jenny-odoru-mie-the-jack-pot
 s-want-you&Itemid=1094\n
DTSTART:20240216T164500
DTEND:20240216T164500
LOCATION:Cross\,B1F\, 1-35-3 Kojimacho\, Chofu-shi\, Tokyo\,Chofu
SUMMARY:The Second Waltz\, Shibata (Pasocom Music Club)\, Jenny Jenny\, Odo
 ru Mie & The Jack Pots\, ℃-want you!
URL:https://www.tokyogigguide.com/index.php?option=com_jem&view=event&id=30
 121:the-second-waltz-shibata-pasocom-music-club-jenny-jenny-odoru-mie-the-
 jack-pots-want-you&Itemid=1094
END:VEVENT
END:VCALENDAR
