BEGIN:VCALENDAR
VERSION:2.0
PRODID:-//104.152.168.27//NONSGML kigkonsult.se iCalcreator 2.20//
CALSCALE:GREGORIAN
METHOD:PUBLISH
X-WR-TIMEZONE:Asia/Tokyo
BEGIN:VEVENT
UID:event29869@Tokyo Gig Guide
DTSTAMP:20260419T192325Z
CATEGORIES:Improvised
DESCRIPTION:Tetuzi AKiyama 秋山徹次 (acoustic guitar)  Masahide Tokunaga 徳永将豪 (
 alto sax)  Masatake Abe 阿部真武 (electric bass)\nCategory: Improvised\nLink: 
 https://www.tokyogigguide.com/index.php?option=com_jem&view=event&id=29869
 :tetuzi-akiyama-acoustic-guitar-masahide-tokunaga-alto-sax-masatake-abe-el
 ectric-bass&Itemid=1094\n
DTSTART:20240107T193000
DTEND:20240107T193000
LOCATION:Ftarri\,Okano Bld.B1\, 1-4-11\, Hongo\, Bunkyo-ku\, Tokyo\,Suidoba
 shi
SUMMARY:Tetuzi AKiyama 秋山徹次 (acoustic guitar)  Masahide Tokunaga 徳永将豪 (alto
  sax)  Masatake Abe 阿部真武 (electric bass)
URL:https://www.tokyogigguide.com/index.php?option=com_jem&view=event&id=29
 869:tetuzi-akiyama-acoustic-guitar-masahide-tokunaga-alto-sax-masatake-abe
 -electric-bass&Itemid=1094
END:VEVENT
END:VCALENDAR
