BEGIN:VCALENDAR
VERSION:2.0
PRODID:-//104.152.168.27//NONSGML kigkonsult.se iCalcreator 2.20//
CALSCALE:GREGORIAN
METHOD:PUBLISH
X-WR-TIMEZONE:Asia/Tokyo
BEGIN:VEVENT
UID:event29775@Tokyo Gig Guide
DTSTAMP:20260421T050143Z
CATEGORIES:Rock n Roll
DESCRIPTION:Jackie & The Cedrics\, The Go-Devils\, The Psycrons\, Machinica
 lis\, Stompin' Riffraffs\, Childish Tones\, Jenny Jenny\nCategory: Rock n 
 Roll\nLink: https://www.tokyogigguide.com/index.php?option=com_jem&view=ev
 ent&id=29775:jenny-jenny-the-psycrons-childiish-tones-the-go-devils-stompi
 n-riffraffs-jackie-the-cedrics&Itemid=1094\n
DTSTART:20240128T150000
DTEND:20240128T150000
LOCATION:TOP BEAT CLUB\,1-15-1\, Shimizu\, Suginami-ku\, Tokyo\,Ogikubo
SUMMARY:Jackie & The Cedrics\, The Go-Devils\, The Psycrons\, Machinicalis\
 , Stompin' Riffraffs\, Childish Tones\, Jenny Jenny
URL:https://www.tokyogigguide.com/index.php?option=com_jem&view=event&id=29
 775:jenny-jenny-the-psycrons-childiish-tones-the-go-devils-stompin-riffraf
 fs-jackie-the-cedrics&Itemid=1094
END:VEVENT
END:VCALENDAR
