BEGIN:VCALENDAR
VERSION:2.0
PRODID:-//104.152.168.27//NONSGML kigkonsult.se iCalcreator 2.20//
CALSCALE:GREGORIAN
METHOD:PUBLISH
X-WR-TIMEZONE:Asia/Tokyo
BEGIN:VEVENT
UID:event29742@Tokyo Gig Guide
DTSTAMP:20260422T004241Z
CATEGORIES:Abstract\, Electronic\, Experimental\, Improvised\, Unclassifiab
 le
DESCRIPTION:Graftage Game: Yoshiki Ichihara + Leo Okagawa\nCategory: Abstra
 ct\, Electronic\, Experimental\, Improvised\, Unclassifiable\nLink: https:
 //www.tokyogigguide.com/index.php?option=com_jem&view=event&id=29742:graft
 age-game-yoshiki-ichihara-leo-okagawa&Itemid=1094\n
DTSTART:20240205T193000
DTEND:20240205T193000
LOCATION:Ftarri\,Okano Bld.B1\, 1-4-11\, Hongo\, Bunkyo-ku\, Tokyo\,Suidoba
 shi
SUMMARY:Graftage Game: Yoshiki Ichihara + Leo Okagawa
URL:https://www.tokyogigguide.com/index.php?option=com_jem&view=event&id=29
 742:graftage-game-yoshiki-ichihara-leo-okagawa&Itemid=1094
END:VEVENT
END:VCALENDAR
