BEGIN:VCALENDAR
VERSION:2.0
PRODID:-//104.152.168.27//NONSGML kigkonsult.se iCalcreator 2.20//
CALSCALE:GREGORIAN
METHOD:PUBLISH
X-WR-TIMEZONE:Asia/Tokyo
BEGIN:VEVENT
UID:event2956@Tokyo Gig Guide
DTSTAMP:20260425T202852Z
CATEGORIES:Improvised
DESCRIPTION:Marcos Fernandes\, Jojun Hasegawa\nCategory: Improvised\nLink: 
 https://www.tokyogigguide.com/index.php?option=com_jem&view=event&id=2956:
 marcos-fernandes-jojun-hasegawa&Itemid=1094\n
DTSTART:20100606T150000
DTEND:20100606T150000
LOCATION:Airegin\,5-60 Sumiyoshi-cho\, Naka-ku\, Yokohama\, Kanagawa\,Yokoh
 ama
SUMMARY:Marcos Fernandes\, Jojun Hasegawa
URL:https://www.tokyogigguide.com/index.php?option=com_jem&view=event&id=29
 56:marcos-fernandes-jojun-hasegawa&Itemid=1094
END:VEVENT
END:VCALENDAR
