BEGIN:VCALENDAR
VERSION:2.0
PRODID:-//104.152.168.27//NONSGML kigkonsult.se iCalcreator 2.20//
CALSCALE:GREGORIAN
METHOD:PUBLISH
X-WR-TIMEZONE:Asia/Tokyo
BEGIN:VEVENT
UID:event29473@Tokyo Gig Guide
DTSTAMP:20260425T123637Z
CATEGORIES:Improvised
DESCRIPTION:Fabio Perletta + Kazuya Matsumoto + Toshimaru Nakamura\nCategor
 y: Improvised\nLink: https://www.tokyogigguide.com/index.php?option=com_je
 m&view=event&id=29473:fabio-perletta-kazuya-matsumoto-toshimaru-nakamura&I
 temid=1094\n
DTSTART:20231203T193000
DTEND:20231203T193000
LOCATION:Ftarri\,Okano Bld.B1\, 1-4-11\, Hongo\, Bunkyo-ku\, Tokyo\,Suidoba
 shi
SUMMARY:Fabio Perletta + Kazuya Matsumoto + Toshimaru Nakamura
URL:https://www.tokyogigguide.com/index.php?option=com_jem&view=event&id=29
 473:fabio-perletta-kazuya-matsumoto-toshimaru-nakamura&Itemid=1094
END:VEVENT
END:VCALENDAR
