BEGIN:VCALENDAR
VERSION:2.0
PRODID:-//104.152.168.27//NONSGML kigkonsult.se iCalcreator 2.20//
CALSCALE:GREGORIAN
METHOD:PUBLISH
X-WR-TIMEZONE:Asia/Tokyo
BEGIN:VEVENT
UID:event29466@Tokyo Gig Guide
DTSTAMP:20260421T013728Z
CATEGORIES:Art\, Avant garde\, Improvised\, Industrial\, Noise
DESCRIPTION:Risa Takeda (pf\, ds\, etc) × Reona (avant-garde tapdance\, met
 al percussions)\nCategory: Art\, Avant garde\, Improvised\, Industrial\, N
 oise\nLink: https://www.tokyogigguide.com/index.php?option=com_jem&view=ev
 ent&id=29466:risa-takeda-pf-ds-etc-reona-avant-garde-tapdance-metal-percus
 sions&Itemid=1094\n
DTSTART:20231209T183000
DTEND:20231209T183000
LOCATION:Thelonious\,5-9-1\, Higashi Nakano\, Nakano-ku\,Higashi-Nakano
SUMMARY:Risa Takeda (pf\, ds\, etc) × Reona (avant-garde tapdance\, metal p
 ercussions)
URL:https://www.tokyogigguide.com/index.php?option=com_jem&view=event&id=29
 466:risa-takeda-pf-ds-etc-reona-avant-garde-tapdance-metal-percussions&Ite
 mid=1094
END:VEVENT
END:VCALENDAR
