BEGIN:VCALENDAR
VERSION:2.0
PRODID:-//104.152.168.27//NONSGML kigkonsult.se iCalcreator 2.20//
CALSCALE:GREGORIAN
METHOD:PUBLISH
X-WR-TIMEZONE:Asia/Tokyo
BEGIN:VEVENT
UID:event29365@Tokyo Gig Guide
DTSTAMP:20260422T213741Z
CATEGORIES:Acoustic\, Electronic\, Experimental\, Improvised\, Unclassifiab
 le
DESCRIPTION:Kanon Aonami\, Fumi Endo\, Leo Okagawa\nCategory: Acoustic\, El
 ectronic\, Experimental\, Improvised\, Unclassifiable\nLink: https://www.t
 okyogigguide.com/index.php?option=com_jem&view=event&id=29365:kanon-aonami
 -fumi-endo-leo-okagawa&Itemid=1094\n
DTSTART:20231113T193000
DTEND:20231113T193000
LOCATION:Ftarri\,Okano Bld.B1\, 1-4-11\, Hongo\, Bunkyo-ku\, Tokyo\,Suidoba
 shi
SUMMARY:Kanon Aonami\, Fumi Endo\, Leo Okagawa
URL:https://www.tokyogigguide.com/index.php?option=com_jem&view=event&id=29
 365:kanon-aonami-fumi-endo-leo-okagawa&Itemid=1094
END:VEVENT
END:VCALENDAR
