BEGIN:VCALENDAR
VERSION:2.0
PRODID:-//104.152.168.27//NONSGML kigkonsult.se iCalcreator 2.20//
CALSCALE:GREGORIAN
METHOD:PUBLISH
X-WR-TIMEZONE:Asia/Tokyo
BEGIN:VEVENT
UID:event29301@Tokyo Gig Guide
DTSTAMP:20260425T230554Z
CATEGORIES:Avant garde\, Experimental\, Improvised
DESCRIPTION:Yuma Uesaka (from NY) + SeaJun Kwon (from NY) + Yumiko Yoshimot
 o\nCategory: Avant garde\, Experimental\, Improvised\nLink: https://www.to
 kyogigguide.com/index.php?option=com_jem&view=event&id=29301:yuma-uesaka-f
 rom-ny-seajun-kwon-from-ny-yumiko-yoshimoto&Itemid=1094\n
DTSTART:20231230T193000
DTEND:20231230T193000
LOCATION:Ftarri\,Okano Bld.B1\, 1-4-11\, Hongo\, Bunkyo-ku\, Tokyo\,Suidoba
 shi
SUMMARY:Yuma Uesaka (from NY) + SeaJun Kwon (from NY) + Yumiko Yoshimoto
URL:https://www.tokyogigguide.com/index.php?option=com_jem&view=event&id=29
 301:yuma-uesaka-from-ny-seajun-kwon-from-ny-yumiko-yoshimoto&Itemid=1094
END:VEVENT
END:VCALENDAR
