BEGIN:VCALENDAR
VERSION:2.0
PRODID:-//104.152.168.27//NONSGML kigkonsult.se iCalcreator 2.20//
CALSCALE:GREGORIAN
METHOD:PUBLISH
X-WR-TIMEZONE:Asia/Tokyo
BEGIN:VEVENT
UID:event29136@Tokyo Gig Guide
DTSTAMP:20260421T010904Z
CATEGORIES:Avant garde\, Experimental\, Improvised
DESCRIPTION:Yumiko Yoshimoto (guitar\, daxophone) + Junji Hirose (tenor sax
 ) + Marie Takahashi (viola)\nCategory: Avant garde\, Experimental\, Improv
 ised\nLink: https://www.tokyogigguide.com/index.php?option=com_jem&view=ev
 ent&id=29136:yumiko-yoshimoto-guitar-daxophone-junji-hirose-tenor-sax-mari
 e-takahashi-viola&Itemid=1094\n
DTSTART:20231210T193000
DTEND:20231210T193000
LOCATION:Ftarri\,Okano Bld.B1\, 1-4-11\, Hongo\, Bunkyo-ku\, Tokyo\,Suidoba
 shi
SUMMARY:Yumiko Yoshimoto (guitar\, daxophone) + Junji Hirose (tenor sax) + 
 Marie Takahashi (viola)
URL:https://www.tokyogigguide.com/index.php?option=com_jem&view=event&id=29
 136:yumiko-yoshimoto-guitar-daxophone-junji-hirose-tenor-sax-marie-takahas
 hi-viola&Itemid=1094
END:VEVENT
END:VCALENDAR
