BEGIN:VCALENDAR
VERSION:2.0
PRODID:-//104.152.168.27//NONSGML kigkonsult.se iCalcreator 2.20//
CALSCALE:GREGORIAN
METHOD:PUBLISH
X-WR-TIMEZONE:Asia/Tokyo
BEGIN:VEVENT
UID:event29029@Tokyo Gig Guide
DTSTAMP:20260423T192025Z
CATEGORIES:Experimental\, Improvised
DESCRIPTION:Kokichi Yanagisawa\, Ai Watanabe DUO\nCategory: Experimental\, 
 Improvised\nLink: https://www.tokyogigguide.com/index.php?option=com_jem&v
 iew=event&id=29029:kokichi-yanagisawa-ai-watanabe&Itemid=1094\n
DTSTART:20231007T193000
DTEND:20231007T193000
LOCATION:Ftarri\,Okano Bld.B1\, 1-4-11\, Hongo\, Bunkyo-ku\, Tokyo\,Suidoba
 shi
SUMMARY:Kokichi Yanagisawa\, Ai Watanabe DUO
URL:https://www.tokyogigguide.com/index.php?option=com_jem&view=event&id=29
 029:kokichi-yanagisawa-ai-watanabe&Itemid=1094
END:VEVENT
END:VCALENDAR
