BEGIN:VCALENDAR
VERSION:2.0
PRODID:-//104.152.168.27//NONSGML kigkonsult.se iCalcreator 2.20//
CALSCALE:GREGORIAN
METHOD:PUBLISH
X-WR-TIMEZONE:Asia/Tokyo
BEGIN:VEVENT
UID:event28904@Tokyo Gig Guide
DTSTAMP:20260420T031148Z
CATEGORIES:Free Jazz\, Improvised\, Jam\, Performance\, World
DESCRIPTION:庄田次郎 (trumpet\, alto sax\, etc.) & participants\nCategory: Free
  Jazz\, Improvised\, Jam\, Performance\, World\nLink: https://www.tokyogig
 guide.com/index.php?option=com_jem&view=event&id=28904:trumpet-alto-sax-et
 c-others&Itemid=1094\n
DTSTART:20231028T134500
DTEND:20231028T134500
LOCATION:Thelonious\,5-9-1\, Higashi Nakano\, Nakano-ku\,Higashi-Nakano
SUMMARY:庄田次郎 (trumpet\, alto sax\, etc.) & participants
URL:https://www.tokyogigguide.com/index.php?option=com_jem&view=event&id=28
 904:trumpet-alto-sax-etc-others&Itemid=1094
END:VEVENT
END:VCALENDAR
