BEGIN:VCALENDAR
VERSION:2.0
PRODID:-//104.152.168.27//NONSGML kigkonsult.se iCalcreator 2.20//
CALSCALE:GREGORIAN
METHOD:PUBLISH
X-WR-TIMEZONE:Asia/Tokyo
BEGIN:VEVENT
UID:event28877@Tokyo Gig Guide
DTSTAMP:20260422T194337Z
CATEGORIES:Abstract\, Avant garde\, Experimental\, Improvised\, Psych-Folk
DESCRIPTION:Chaase + Tetuzi Akiyama (秋山徹次)\nCategory: Abstract\, Avant gard
 e\, Experimental\, Improvised\, Psych-Folk\nLink: https://www.tokyogigguid
 e.com/index.php?option=com_jem&view=event&id=28877:chaase-tetuzi-akiyama&I
 temid=1094\n
DTSTART:20231015T193000
DTEND:20231015T193000
LOCATION:Ftarri\,Okano Bld.B1\, 1-4-11\, Hongo\, Bunkyo-ku\, Tokyo\,Suidoba
 shi
SUMMARY:Chaase + Tetuzi Akiyama (秋山徹次)
URL:https://www.tokyogigguide.com/index.php?option=com_jem&view=event&id=28
 877:chaase-tetuzi-akiyama&Itemid=1094
END:VEVENT
END:VCALENDAR
