BEGIN:VCALENDAR
VERSION:2.0
PRODID:-//104.152.168.27//NONSGML kigkonsult.se iCalcreator 2.20//
CALSCALE:GREGORIAN
METHOD:PUBLISH
X-WR-TIMEZONE:Asia/Tokyo
BEGIN:VEVENT
UID:event28806@Tokyo Gig Guide
DTSTAMP:20260420T201731Z
CATEGORIES:Emo\, Hardcore\, Math-Rock\, Noise Rock
DESCRIPTION:Tibetan Sky\, GLF Lesson\, Menoubari\, Gharr\nCategory: Emo\, H
 ardcore\, Math-Rock\, Noise Rock\nLink: https://www.tokyogigguide.com/inde
 x.php?option=com_jem&view=event&id=28806:tibetan-sky-glf-lesson&Itemid=109
 4\n
DTSTART:20231212T180000
DTEND:20231212T180000
LOCATION:Chop (Shutou)\,Sheema100 B1\, 2-46-3 Ikebukuro\,Ikebukuro
SUMMARY:Tibetan Sky\, GLF Lesson\, Menoubari\, Gharr
URL:https://www.tokyogigguide.com/index.php?option=com_jem&view=event&id=28
 806:tibetan-sky-glf-lesson&Itemid=1094
END:VEVENT
END:VCALENDAR
