BEGIN:VCALENDAR
VERSION:2.0
PRODID:-//104.152.168.27//NONSGML kigkonsult.se iCalcreator 2.20//
CALSCALE:GREGORIAN
METHOD:PUBLISH
X-WR-TIMEZONE:Asia/Tokyo
BEGIN:VEVENT
UID:event28698@Tokyo Gig Guide
DTSTAMP:20260424T031412Z
CATEGORIES:Abstract\, Electronic\, Experimental\, Improvised\, Unclassifiab
 le
DESCRIPTION:Leo Okagawa: Solo\nCategory: Abstract\, Electronic\, Experiment
 al\, Improvised\, Unclassifiable\nLink: https://www.tokyogigguide.com/inde
 x.php?option=com_jem&view=event&id=28698:leo-okagawa-solo&Itemid=1094\n
DTSTART:20230918T193000
DTEND:20230918T193000
LOCATION:Ftarri\,Okano Bld.B1\, 1-4-11\, Hongo\, Bunkyo-ku\, Tokyo\,Suidoba
 shi
SUMMARY:Leo Okagawa: Solo
URL:https://www.tokyogigguide.com/index.php?option=com_jem&view=event&id=28
 698:leo-okagawa-solo&Itemid=1094
END:VEVENT
END:VCALENDAR
