BEGIN:VCALENDAR
VERSION:2.0
PRODID:-//104.152.168.27//NONSGML kigkonsult.se iCalcreator 2.20//
CALSCALE:GREGORIAN
METHOD:PUBLISH
X-WR-TIMEZONE:Asia/Tokyo
BEGIN:VEVENT
UID:event28696@Tokyo Gig Guide
DTSTAMP:20260421T003914Z
CATEGORIES:Abstract\, All Mix\, Art\, Experimental\, Noise
DESCRIPTION: tribe Called NoiZ (書)\, KAE TAKAHASHI\nCategory: Abstract\, Al
 l Mix\, Art\, Experimental\, Noise\nLink: https://www.tokyogigguide.com/in
 dex.php?option=com_jem&view=event&id=28696:live-a-tribe-called-noiz-kae-ta
 kahashi&Itemid=1094\n
DTSTART:20230918T180000
DTEND:20230918T180000
LOCATION:Oriental Force\,#8 Nitto Build. B1\, Koenji-Minami 3-38-6\,Koenji
SUMMARY: tribe Called NoiZ (書)\, KAE TAKAHASHI
URL:https://www.tokyogigguide.com/index.php?option=com_jem&view=event&id=28
 696:live-a-tribe-called-noiz-kae-takahashi&Itemid=1094
END:VEVENT
END:VCALENDAR
