BEGIN:VCALENDAR
VERSION:2.0
PRODID:-//104.152.168.27//NONSGML kigkonsult.se iCalcreator 2.20//
CALSCALE:GREGORIAN
METHOD:PUBLISH
X-WR-TIMEZONE:Asia/Tokyo
BEGIN:VEVENT
UID:event2850@Tokyo Gig Guide
DTSTAMP:20260419T193958Z
CATEGORIES:Improvised
DESCRIPTION:Marcos Fernandes\, Yoko Arai\, Yoichiro Kita\, Yumiko Tanaka\nC
 ategory: Improvised\nLink: https://www.tokyogigguide.com/index.php?option=
 com_jem&view=event&id=2850:marcos-fernandes-yoko-arai-yoichiro-kita-yumiko
 -tanaka&Itemid=1094\n
DTSTART:20100519T200000
DTEND:20100519T200000
LOCATION:Airegin\,5-60 Sumiyoshi-cho\, Naka-ku\, Yokohama\, Kanagawa\,Yokoh
 ama
SUMMARY:Marcos Fernandes\, Yoko Arai\, Yoichiro Kita\, Yumiko Tanaka
URL:https://www.tokyogigguide.com/index.php?option=com_jem&view=event&id=28
 50:marcos-fernandes-yoko-arai-yoichiro-kita-yumiko-tanaka&Itemid=1094
END:VEVENT
END:VCALENDAR
