BEGIN:VCALENDAR
VERSION:2.0
PRODID:-//104.152.168.27//NONSGML kigkonsult.se iCalcreator 2.20//
CALSCALE:GREGORIAN
METHOD:PUBLISH
X-WR-TIMEZONE:Asia/Tokyo
BEGIN:VEVENT
UID:event28476@Tokyo Gig Guide
DTSTAMP:20260420T162542Z
CATEGORIES:Alternative\, Experimental\, Improvised
DESCRIPTION:Joshua Weitzel\, Chie Nagai\, Toshimaru Nakamura\nCategory: Alt
 ernative\, Experimental\, Improvised\nLink: https://www.tokyogigguide.com/
 index.php?option=com_jem&view=event&id=28476:joshua-weitzel-chie-nagai-tos
 himaru-nakamura&Itemid=1094\n
DTSTART:20230820T193000
DTEND:20230820T193000
LOCATION:Ftarri\,Okano Bld.B1\, 1-4-11\, Hongo\, Bunkyo-ku\, Tokyo\,Suidoba
 shi
SUMMARY:Joshua Weitzel\, Chie Nagai\, Toshimaru Nakamura
URL:https://www.tokyogigguide.com/index.php?option=com_jem&view=event&id=28
 476:joshua-weitzel-chie-nagai-toshimaru-nakamura&Itemid=1094
END:VEVENT
END:VCALENDAR
