BEGIN:VCALENDAR
VERSION:2.0
PRODID:-//104.152.168.27//NONSGML kigkonsult.se iCalcreator 2.20//
CALSCALE:GREGORIAN
METHOD:PUBLISH
X-WR-TIMEZONE:Asia/Tokyo
BEGIN:VEVENT
UID:event28317@Tokyo Gig Guide
DTSTAMP:20260421T150418Z
CATEGORIES:Unclassifiable
DESCRIPTION:Shoko Numao (vocal) + Masatake Abe (bass)\nCategory: Unclassifi
 able\nLink: https://www.tokyogigguide.com/index.php?option=com_jem&view=ev
 ent&id=28317:shoko-numao-vocal-masatake-abe-bass&Itemid=1094\n
DTSTART:20230806T193000
DTEND:20230806T193000
LOCATION:Ftarri\,Okano Bld.B1\, 1-4-11\, Hongo\, Bunkyo-ku\, Tokyo\,Suidoba
 shi
SUMMARY:Shoko Numao (vocal) + Masatake Abe (bass)
URL:https://www.tokyogigguide.com/index.php?option=com_jem&view=event&id=28
 317:shoko-numao-vocal-masatake-abe-bass&Itemid=1094
END:VEVENT
END:VCALENDAR
