BEGIN:VCALENDAR
VERSION:2.0
PRODID:-//104.152.168.27//NONSGML kigkonsult.se iCalcreator 2.20//
CALSCALE:GREGORIAN
METHOD:PUBLISH
X-WR-TIMEZONE:Asia/Tokyo
BEGIN:VEVENT
UID:event28173@Tokyo Gig Guide
DTSTAMP:20260419T122125Z
CATEGORIES:Improvised
DESCRIPTION:DJPQ0523 aka DJ Peaky\, Atsushi Arakawa\, Takefumi Naoshima + k
 nd\nCategory: Improvised\nLink: https://www.tokyogigguide.com/index.php?op
 tion=com_jem&view=event&id=28173:djpq0523-aka-dj-peaky-atsushi-arakawa-tak
 efumi-naoshima-knd&Itemid=1094\n
DTSTART:20230722T193000
DTEND:20230722T193000
LOCATION:Ftarri\,Okano Bld.B1\, 1-4-11\, Hongo\, Bunkyo-ku\, Tokyo\,Suidoba
 shi
SUMMARY:DJPQ0523 aka DJ Peaky\, Atsushi Arakawa\, Takefumi Naoshima + knd
URL:https://www.tokyogigguide.com/index.php?option=com_jem&view=event&id=28
 173:djpq0523-aka-dj-peaky-atsushi-arakawa-takefumi-naoshima-knd&Itemid=109
 4
END:VEVENT
END:VCALENDAR
