BEGIN:VCALENDAR
VERSION:2.0
PRODID:-//104.152.168.27//NONSGML kigkonsult.se iCalcreator 2.20//
CALSCALE:GREGORIAN
METHOD:PUBLISH
X-WR-TIMEZONE:Asia/Tokyo
BEGIN:VEVENT
UID:event27924@Tokyo Gig Guide
DTSTAMP:20260420T022209Z
CATEGORIES:Folk\, Jazz\, Pop
DESCRIPTION:Shoko Numao (vocal)\, Masatake Abe (bass)\nCategory: Folk\, Jaz
 z\, Pop\nLink: https://www.tokyogigguide.com/index.php?option=com_jem&view
 =event&id=27924:shoko-numao-vocal-masatake-abe-bass-original-compositions&
 Itemid=1094\n
DTSTART:20230619T193000
DTEND:20230619T193000
LOCATION:Ftarri\,Okano Bld.B1\, 1-4-11\, Hongo\, Bunkyo-ku\, Tokyo\,Suidoba
 shi
SUMMARY:Shoko Numao (vocal)\, Masatake Abe (bass)
URL:https://www.tokyogigguide.com/index.php?option=com_jem&view=event&id=27
 924:shoko-numao-vocal-masatake-abe-bass-original-compositions&Itemid=1094
END:VEVENT
END:VCALENDAR
