BEGIN:VCALENDAR
VERSION:2.0
PRODID:-//104.152.168.27//NONSGML kigkonsult.se iCalcreator 2.20//
CALSCALE:GREGORIAN
METHOD:PUBLISH
X-WR-TIMEZONE:Asia/Tokyo
BEGIN:VEVENT
UID:event27817@Tokyo Gig Guide
DTSTAMP:20260420T031228Z
CATEGORIES:Acoustic\, Alternative\, Avant garde\, Improvised\, Instrumental
DESCRIPTION:Kazuto Shimizu + Tatsuya Yoshida\nCategory: Acoustic\, Alternat
 ive\, Avant garde\, Improvised\, Instrumental\nLink: https://www.tokyogigg
 uide.com/index.php?option=com_jem&view=event&id=27817:kazuto-shimizu-tatsu
 ya-yoshida&Itemid=1094\n
DTSTART:20230604T183000
DTEND:20230604T183000
LOCATION:Thelonious\,5-9-1\, Higashi Nakano\, Nakano-ku\,Higashi-Nakano
SUMMARY:Kazuto Shimizu + Tatsuya Yoshida
URL:https://www.tokyogigguide.com/index.php?option=com_jem&view=event&id=27
 817:kazuto-shimizu-tatsuya-yoshida&Itemid=1094
END:VEVENT
END:VCALENDAR
