BEGIN:VCALENDAR
VERSION:2.0
PRODID:-//104.152.168.27//NONSGML kigkonsult.se iCalcreator 2.20//
CALSCALE:GREGORIAN
METHOD:PUBLISH
X-WR-TIMEZONE:Asia/Tokyo
BEGIN:VEVENT
UID:event27717@Tokyo Gig Guide
DTSTAMP:20260419T224503Z
CATEGORIES:Classical\, Experimental\, Improvised\, Other\, Party
DESCRIPTION:Kokichi Yanagisawa\, Ai Watanabe\nCategory: Classical\, Experim
 ental\, Improvised\, Other\, Party\nLink: https://www.tokyogigguide.com/in
 dex.php?option=com_jem&view=event&id=27717:kokichi-yanagisawa-ai-watanabe&
 Itemid=1094\n
DTSTART:20230520T193000
DTEND:20230520T193000
LOCATION:Ftarri\,Okano Bld.B1\, 1-4-11\, Hongo\, Bunkyo-ku\, Tokyo\,Suidoba
 shi
SUMMARY:Kokichi Yanagisawa\, Ai Watanabe
URL:https://www.tokyogigguide.com/index.php?option=com_jem&view=event&id=27
 717:kokichi-yanagisawa-ai-watanabe&Itemid=1094
END:VEVENT
END:VCALENDAR
