BEGIN:VCALENDAR
VERSION:2.0
PRODID:-//104.152.168.27//NONSGML kigkonsult.se iCalcreator 2.20//
CALSCALE:GREGORIAN
METHOD:PUBLISH
X-WR-TIMEZONE:Asia/Tokyo
BEGIN:VEVENT
UID:event27503@Tokyo Gig Guide
DTSTAMP:20260425T125815Z
CATEGORIES:Improvised
DESCRIPTION:the true three par\nCategory: Improvised\nLink: https://www.tok
 yogigguide.com/index.php?option=com_jem&view=event&id=27503:the-true-three
 -par&Itemid=1094\n
DTSTART:20230615T183000
DTEND:20230615T183000
LOCATION:Jirokichi\,Koenji Bldg B1\, 2-3-4 Koenji-kita\,Koenji
SUMMARY:the true three par
URL:https://www.tokyogigguide.com/index.php?option=com_jem&view=event&id=27
 503:the-true-three-par&Itemid=1094
END:VEVENT
END:VCALENDAR
