BEGIN:VCALENDAR
VERSION:2.0
PRODID:-//104.152.168.27//NONSGML kigkonsult.se iCalcreator 2.20//
CALSCALE:GREGORIAN
METHOD:PUBLISH
X-WR-TIMEZONE:Asia/Tokyo
BEGIN:VEVENT
UID:event27440@Tokyo Gig Guide
DTSTAMP:20260422T060143Z
CATEGORIES:Abstract\, Ambient\, Experimental\, Improvised
DESCRIPTION:ann ihsa\, yuma takeshita\nCategory: Abstract\, Ambient\, Exper
 imental\, Improvised\nLink: https://www.tokyogigguide.com/index.php?option
 =com_jem&view=event&id=27440:ann-ihsa-yuma-takeshita&Itemid=1094\n
DTSTART:20230528T193000
DTEND:20230528T193000
LOCATION:Ftarri\,Okano Bld.B1\, 1-4-11\, Hongo\, Bunkyo-ku\, Tokyo\,Suidoba
 shi
SUMMARY:ann ihsa\, yuma takeshita
URL:https://www.tokyogigguide.com/index.php?option=com_jem&view=event&id=27
 440:ann-ihsa-yuma-takeshita&Itemid=1094
END:VEVENT
END:VCALENDAR
