BEGIN:VCALENDAR
VERSION:2.0
PRODID:-//104.152.168.27//NONSGML kigkonsult.se iCalcreator 2.20//
CALSCALE:GREGORIAN
METHOD:PUBLISH
X-WR-TIMEZONE:Asia/Tokyo
BEGIN:VEVENT
UID:event27322@Tokyo Gig Guide
DTSTAMP:20260420T030600Z
CATEGORIES:Abstract\, Electronic\, Improvised\, WTF?
DESCRIPTION:野本直輝 (NOMOTO Naoki) (synthesiser\, computer)\, 市原義己 (ICHIHARA Y
 oshiki) (synthesiser)\nCategory: Abstract\, Electronic\, Improvised\, WTF?
 \nLink: https://www.tokyogigguide.com/index.php?option=com_jem&view=event&
 id=27322:nomoto-naoki-ichihara-yoshiki&Itemid=1094\n
DTSTART:20230429T193000
DTEND:20230429T193000
LOCATION:Ftarri\,Okano Bld.B1\, 1-4-11\, Hongo\, Bunkyo-ku\, Tokyo\,Suidoba
 shi
SUMMARY:野本直輝 (NOMOTO Naoki) (synthesiser\, computer)\, 市原義己 (ICHIHARA Yoshi
 ki) (synthesiser)
URL:https://www.tokyogigguide.com/index.php?option=com_jem&view=event&id=27
 322:nomoto-naoki-ichihara-yoshiki&Itemid=1094
END:VEVENT
END:VCALENDAR
