BEGIN:VCALENDAR
VERSION:2.0
PRODID:-//104.152.168.27//NONSGML kigkonsult.se iCalcreator 2.20//
CALSCALE:GREGORIAN
METHOD:PUBLISH
X-WR-TIMEZONE:Asia/Tokyo
BEGIN:VEVENT
UID:event27305@Tokyo Gig Guide
DTSTAMP:20260419T123146Z
CATEGORIES:Art\, Experimental\, Improvised\, Noise
DESCRIPTION:竹下勇馬 (Yuma Takeshita) and Dana Ollestad (オブジェクト)\nCategory: Art
 \, Experimental\, Improvised\, Noise\nLink: https://www.tokyogigguide.com/
 index.php?option=com_jem&view=event&id=27305:yuma-takeshita-and-dana-olles
 tad&Itemid=1094\n
DTSTART:20230326T073000
DTEND:20230326T073000
LOCATION:Ftarri\,Okano Bld.B1\, 1-4-11\, Hongo\, Bunkyo-ku\, Tokyo\,Suidoba
 shi
SUMMARY:竹下勇馬 (Yuma Takeshita) and Dana Ollestad (オブジェクト)
URL:https://www.tokyogigguide.com/index.php?option=com_jem&view=event&id=27
 305:yuma-takeshita-and-dana-ollestad&Itemid=1094
END:VEVENT
END:VCALENDAR
