BEGIN:VCALENDAR
VERSION:2.0
PRODID:-//104.152.168.27//NONSGML kigkonsult.se iCalcreator 2.20//
CALSCALE:GREGORIAN
METHOD:PUBLISH
X-WR-TIMEZONE:Asia/Tokyo
BEGIN:VEVENT
UID:event2709@Tokyo Gig Guide
DTSTAMP:20260421T075226Z
CATEGORIES:Psychedelic
DESCRIPTION:Suishou No Fune\, Yoshono+Jun Kosugi\, Mark Sadgrove & Noel Cal
 lan\nCategory: Psychedelic\nLink: https://www.tokyogigguide.com/index.php?
 option=com_jem&view=event&id=2709:suishou-no-fune-yoshonojun-kosugi-mark-s
 adgrove-a-noel-callan&Itemid=1094\n
DTSTART:20100513T190000
DTEND:20100513T190000
LOCATION:Silver Elephant\,2-10-6 B1\, Kichijoji Honmachi\,Kichijoji
SUMMARY:Suishou No Fune\, Yoshono+Jun Kosugi\, Mark Sadgrove & Noel Callan
URL:https://www.tokyogigguide.com/index.php?option=com_jem&view=event&id=27
 09:suishou-no-fune-yoshonojun-kosugi-mark-sadgrove-a-noel-callan&Itemid=10
 94
END:VEVENT
END:VCALENDAR
