BEGIN:VCALENDAR
VERSION:2.0
PRODID:-//104.152.168.27//NONSGML kigkonsult.se iCalcreator 2.20//
CALSCALE:GREGORIAN
METHOD:PUBLISH
X-WR-TIMEZONE:Asia/Tokyo
BEGIN:VEVENT
UID:event26981@Tokyo Gig Guide
DTSTAMP:20260426T005359Z
CATEGORIES:Acoustic\, Avant garde\, Free Jazz
DESCRIPTION:Casimir Liberski & Tatsuya Yoshida  \nCategory: Acoustic\, Avan
 t garde\, Free Jazz\nLink: https://www.tokyogigguide.com/index.php?option=
 com_jem&view=event&id=26981:casimir-liberski-tatsuya-yoshida&Itemid=1094\n
DTSTART:20230205T190000
DTEND:20230205T190000
LOCATION:Thelonious\,5-9-1\, Higashi Nakano\, Nakano-ku\,Higashi-Nakano
SUMMARY:Casimir Liberski & Tatsuya Yoshida  
URL:https://www.tokyogigguide.com/index.php?option=com_jem&view=event&id=26
 981:casimir-liberski-tatsuya-yoshida&Itemid=1094
END:VEVENT
END:VCALENDAR
