BEGIN:VCALENDAR
VERSION:2.0
PRODID:-//104.152.168.27//NONSGML kigkonsult.se iCalcreator 2.20//
CALSCALE:GREGORIAN
METHOD:PUBLISH
X-WR-TIMEZONE:Asia/Tokyo
BEGIN:VEVENT
UID:event26957@Tokyo Gig Guide
DTSTAMP:20260422T053129Z
CATEGORIES:Avant garde\, Experimental\, Improvised
DESCRIPTION:Yumiko Yoshimoto (guitar\, daxophone) + Marie Takahashi (viola)
  + Jun Kawasaki (contrabass)\nCategory: Avant garde\, Experimental\, Impro
 vised\nLink: https://www.tokyogigguide.com/index.php?option=com_jem&view=e
 vent&id=26957:yumiko-yoshimoto-guitar-daxophone-marie-takahashi-viola-jun-
 kawasaki-contrabass&Itemid=1094\n
DTSTART:20230225T193000
DTEND:20230225T193000
LOCATION:Ftarri\,Okano Bld.B1\, 1-4-11\, Hongo\, Bunkyo-ku\, Tokyo\,Suidoba
 shi
SUMMARY:Yumiko Yoshimoto (guitar\, daxophone) + Marie Takahashi (viola) + J
 un Kawasaki (contrabass)
URL:https://www.tokyogigguide.com/index.php?option=com_jem&view=event&id=26
 957:yumiko-yoshimoto-guitar-daxophone-marie-takahashi-viola-jun-kawasaki-c
 ontrabass&Itemid=1094
END:VEVENT
END:VCALENDAR
