BEGIN:VCALENDAR
VERSION:2.0
PRODID:-//104.152.168.27//NONSGML kigkonsult.se iCalcreator 2.20//
CALSCALE:GREGORIAN
METHOD:PUBLISH
X-WR-TIMEZONE:Asia/Tokyo
BEGIN:VEVENT
UID:event26614@Tokyo Gig Guide
DTSTAMP:20260419T170529Z
CATEGORIES:Experimental\, Improvised\, Jazz
DESCRIPTION:SOLOS vol. 5: Takeshi Kurihara x Cal Lyall \nCategory: Experime
 ntal\, Improvised\, Jazz\nLink: https://www.tokyogigguide.com/index.php?op
 tion=com_jem&view=event&id=26614:solos-vol-5-takeshi-kurihara-x-cal-lyall&
 Itemid=1094\n
DTSTART:20221206T190000
DTEND:20221206T190000
LOCATION:Jazz Bar Amber (琥珀)\,17-1 Brother Building 6F\, Udagawacho\,Shibuy
 a
SUMMARY:SOLOS vol. 5: Takeshi Kurihara x Cal Lyall 
URL:https://www.tokyogigguide.com/index.php?option=com_jem&view=event&id=26
 614:solos-vol-5-takeshi-kurihara-x-cal-lyall&Itemid=1094
END:VEVENT
END:VCALENDAR
