BEGIN:VCALENDAR
VERSION:2.0
PRODID:-//104.152.168.27//NONSGML kigkonsult.se iCalcreator 2.20//
CALSCALE:GREGORIAN
METHOD:PUBLISH
X-WR-TIMEZONE:Asia/Tokyo
BEGIN:VEVENT
UID:event26462@Tokyo Gig Guide
DTSTAMP:20260419T122044Z
CATEGORIES:Improvised
DESCRIPTION:秋山徹次 (tetuzi akiyama)\, ヒグチケイコ (keiko higuchi)\nCategory: Impro
 vised\nLink: https://www.tokyogigguide.com/index.php?option=com_jem&view=e
 vent&id=26462:tetuzi-akiyama-g-keiko-higuchi-p-v-ftarri&Itemid=1094\n
DTSTART:20221229T193000
DTEND:20221229T193000
LOCATION:Ftarri\,Okano Bld.B1\, 1-4-11\, Hongo\, Bunkyo-ku\, Tokyo\,Suidoba
 shi
SUMMARY:秋山徹次 (tetuzi akiyama)\, ヒグチケイコ (keiko higuchi)
URL:https://www.tokyogigguide.com/index.php?option=com_jem&view=event&id=26
 462:tetuzi-akiyama-g-keiko-higuchi-p-v-ftarri&Itemid=1094
END:VEVENT
END:VCALENDAR
