BEGIN:VCALENDAR
VERSION:2.0
PRODID:-//104.152.168.27//NONSGML kigkonsult.se iCalcreator 2.20//
CALSCALE:GREGORIAN
METHOD:PUBLISH
X-WR-TIMEZONE:Asia/Tokyo
BEGIN:VEVENT
UID:event25617@Tokyo Gig Guide
DTSTAMP:20260425T112854Z
CATEGORIES:Alternative\, Indie-Rock
DESCRIPTION:Sisters In The Velvet\, Johnnivan\, Waater\nCategory: Alternati
 ve\, Indie-Rock\nLink: https://www.tokyogigguide.com/index.php?option=com_
 jem&view=event&id=25617:sisters-in-the-velvet-johnnivan-waater&Itemid=1094
 \n
DTSTART:20220327T183000
DTEND:20220327T183000
LOCATION:SPREAD\,2-12-6 Kitazawa\, Setagaya-ku\, Tokyo\,Shimokitazawa
SUMMARY:Sisters In The Velvet\, Johnnivan\, Waater
URL:https://www.tokyogigguide.com/index.php?option=com_jem&view=event&id=25
 617:sisters-in-the-velvet-johnnivan-waater&Itemid=1094
END:VEVENT
END:VCALENDAR
